BEGIN:VCALENDAR
VERSION:2.0
PRODID:-//IP.Board Calendar 4.4.10//EN
METHOD:PUBLISH
CALSCALE:GREGORIAN
X-WR-CALNAME:Календарь
BEGIN:VTIMEZONE
TZID:Europe/London
TZURL:http://tzurl.org/zoneinfo/Europe/London
X-LIC-LOCATION:Europe/London
BEGIN:DAYLIGHT
TZOFFSETFROM:+0000
TZOFFSETTO:+0100
TZNAME:BST
DTSTART:20170326T020000Z
RRULE:FREQ=YEARLY;BYMONTH=3;BYDAY=-1SU
END:DAYLIGHT
BEGIN:STANDARD
TZOFFSETFROM:+0100
TZOFFSETTO:+0000
TZNAME:GMT
DTSTART:20171029T020000Z
RRULE:FREQ=YEARLY;BYMONTH=10;BYDAY=-1SU
END:STANDARD
END:VTIMEZONE
BEGIN:VEVENT
SUMMARY:Русское поле 2017
DTSTAMP:20171007T194449Z
SEQUENCE:0
UID:43-1-c9b1094fec212a9569bc760b560c7317@mirfermera.ru
ORGANIZER;CN="Olga":no-reply@mirfermera.ru
DESCRIPTION:\n\n	С 18 по 20 октября
	 2017 года б
	удет про
	ведена в
	торая В
	серосси
	йская спец
	иализиров
	анная выстав
	ка\, посвящ
	енная сел
	екционной 
	работе\, ра
	стениевод
	ству\, се
	льскохо
	зяйствен
	ной техни
	ке и агр
	охимии.
	 Органи
	затором
	 меропри
	ятия явля
	ется Кра
	снодарск
	ая выставо
	чная компан
	ия СитиЭкспо. Пло
	щадку для демонстраци
	и выделят в ФГБОУ ВО 
	«КубГАУ».\n\n\n\n\n
		В данный
	 момент 
	выставк
	а «Русско
	е поле» яв
	ляется ед
	инственны
	м меропри
	ятием дан
	ного напр
	авления. 
	В рамках
	 данной 
	выстав
	ки отече
	ственные
	 селекци
	онеры мо
	гут презе
	нтовать пос
	адочный мат
	ериал и гиб
	риды собств
	енного про
	изводства\
	, а также по
	следние до
	стижения в
	 области с
	ельскохо
	зяйственн
	ой техники\, агро
	химии и технологий
	 для растениеводчес
	ких хозяйств.\n\n\n\
	n\n	Гости вы
	ставки с
	могут не
	 только
	 ознакомит
	ься с посл
	едними до
	стижениям
	и агропром
	ышленного
	 комплекса
	\, но и приоб
	рести кач
	ественную
	 продукцию 
	отечественн
	ого производств
	а\, а также наладить полезные связи для в
	едения бизнеса. \n\n
DTSTART;VALUE=DATE:20171018
DTEND;VALUE=DATE:20171021
END:VEVENT
END:VCALENDAR
